BEGIN:VCALENDAR
VERSION:2.0
PRODID:-//Musten &amp; Crutchfield Food Market - ECPv6.15.14//NONSGML v1.0//EN
CALSCALE:GREGORIAN
METHOD:PUBLISH
X-ORIGINAL-URL:http://mustenandcrutchfield.com
X-WR-CALDESC:Events for Musten &amp; Crutchfield Food Market
REFRESH-INTERVAL;VALUE=DURATION:PT1H
X-Robots-Tag:noindex
X-PUBLISHED-TTL:PT1H
BEGIN:VTIMEZONE
TZID:America/New_York
BEGIN:DAYLIGHT
TZOFFSETFROM:-0500
TZOFFSETTO:-0400
TZNAME:EDT
DTSTART:20270314T070000
END:DAYLIGHT
BEGIN:STANDARD
TZOFFSETFROM:-0400
TZOFFSETTO:-0500
TZNAME:EST
DTSTART:20271107T060000
END:STANDARD
BEGIN:DAYLIGHT
TZOFFSETFROM:-0500
TZOFFSETTO:-0400
TZNAME:EDT
DTSTART:20280312T070000
END:DAYLIGHT
BEGIN:STANDARD
TZOFFSETFROM:-0400
TZOFFSETTO:-0500
TZNAME:EST
DTSTART:20281105T060000
END:STANDARD
BEGIN:DAYLIGHT
TZOFFSETFROM:-0500
TZOFFSETTO:-0400
TZNAME:EDT
DTSTART:20290311T070000
END:DAYLIGHT
BEGIN:STANDARD
TZOFFSETFROM:-0400
TZOFFSETTO:-0500
TZNAME:EST
DTSTART:20291104T060000
END:STANDARD
BEGIN:DAYLIGHT
TZOFFSETFROM:-0500
TZOFFSETTO:-0400
TZNAME:EDT
DTSTART:20300310T070000
END:DAYLIGHT
BEGIN:STANDARD
TZOFFSETFROM:-0400
TZOFFSETTO:-0500
TZNAME:EST
DTSTART:20301103T060000
END:STANDARD
END:VTIMEZONE
BEGIN:VEVENT
DTSTART;TZID=America/New_York:20280808T170000
DTEND;TZID=America/New_York:20280808T210000
DTSTAMP:20260420T180948
CREATED:20250417T210335Z
LAST-MODIFIED:20250424T160616Z
UID:10000180-1849366800-1849381200@mustenandcrutchfield.com
SUMMARY:Food Truck Rodeo
DESCRIPTION:
URL:http://mustenandcrutchfield.com/event/food-truck-rodeo/2028-08-08/
LOCATION:Musten & Crutchfield Parking Lot\, 245 N. Main St.\, Kernersville\, NC\, 27284\, United States
CATEGORIES:Food Truck Rodeo
ATTACH;FMTTYPE=image/png:http://mustenandcrutchfield.com/wp-content/uploads/2025/04/FoodTruck-1.png
END:VEVENT
BEGIN:VEVENT
DTSTART;TZID=America/New_York:20280815T170000
DTEND;TZID=America/New_York:20280815T210000
DTSTAMP:20260420T180948
CREATED:20250417T210335Z
LAST-MODIFIED:20250424T160616Z
UID:10000181-1849971600-1849986000@mustenandcrutchfield.com
SUMMARY:Food Truck Rodeo
DESCRIPTION:
URL:http://mustenandcrutchfield.com/event/food-truck-rodeo/2028-08-15/
LOCATION:Musten & Crutchfield Parking Lot\, 245 N. Main St.\, Kernersville\, NC\, 27284\, United States
CATEGORIES:Food Truck Rodeo
ATTACH;FMTTYPE=image/png:http://mustenandcrutchfield.com/wp-content/uploads/2025/04/FoodTruck-1.png
END:VEVENT
BEGIN:VEVENT
DTSTART;TZID=America/New_York:20280822T170000
DTEND;TZID=America/New_York:20280822T210000
DTSTAMP:20260420T180948
CREATED:20250417T210335Z
LAST-MODIFIED:20250424T160616Z
UID:10000182-1850576400-1850590800@mustenandcrutchfield.com
SUMMARY:Food Truck Rodeo
DESCRIPTION:
URL:http://mustenandcrutchfield.com/event/food-truck-rodeo/2028-08-22/
LOCATION:Musten & Crutchfield Parking Lot\, 245 N. Main St.\, Kernersville\, NC\, 27284\, United States
CATEGORIES:Food Truck Rodeo
ATTACH;FMTTYPE=image/png:http://mustenandcrutchfield.com/wp-content/uploads/2025/04/FoodTruck-1.png
END:VEVENT
BEGIN:VEVENT
DTSTART;TZID=America/New_York:20280829T170000
DTEND;TZID=America/New_York:20280829T210000
DTSTAMP:20260420T180948
CREATED:20250417T210335Z
LAST-MODIFIED:20250424T160616Z
UID:10000183-1851181200-1851195600@mustenandcrutchfield.com
SUMMARY:Food Truck Rodeo
DESCRIPTION:
URL:http://mustenandcrutchfield.com/event/food-truck-rodeo/2028-08-29/
LOCATION:Musten & Crutchfield Parking Lot\, 245 N. Main St.\, Kernersville\, NC\, 27284\, United States
CATEGORIES:Food Truck Rodeo
ATTACH;FMTTYPE=image/png:http://mustenandcrutchfield.com/wp-content/uploads/2025/04/FoodTruck-1.png
END:VEVENT
BEGIN:VEVENT
DTSTART;TZID=America/New_York:20280905T170000
DTEND;TZID=America/New_York:20280905T210000
DTSTAMP:20260420T180948
CREATED:20250417T210335Z
LAST-MODIFIED:20250424T160616Z
UID:10000184-1851786000-1851800400@mustenandcrutchfield.com
SUMMARY:Food Truck Rodeo
DESCRIPTION:
URL:http://mustenandcrutchfield.com/event/food-truck-rodeo/2028-09-05/
LOCATION:Musten & Crutchfield Parking Lot\, 245 N. Main St.\, Kernersville\, NC\, 27284\, United States
CATEGORIES:Food Truck Rodeo
ATTACH;FMTTYPE=image/png:http://mustenandcrutchfield.com/wp-content/uploads/2025/04/FoodTruck-1.png
END:VEVENT
BEGIN:VEVENT
DTSTART;TZID=America/New_York:20280912T170000
DTEND;TZID=America/New_York:20280912T210000
DTSTAMP:20260420T180948
CREATED:20250417T210335Z
LAST-MODIFIED:20250424T160616Z
UID:10000185-1852390800-1852405200@mustenandcrutchfield.com
SUMMARY:Food Truck Rodeo
DESCRIPTION:
URL:http://mustenandcrutchfield.com/event/food-truck-rodeo/2028-09-12/
LOCATION:Musten & Crutchfield Parking Lot\, 245 N. Main St.\, Kernersville\, NC\, 27284\, United States
CATEGORIES:Food Truck Rodeo
ATTACH;FMTTYPE=image/png:http://mustenandcrutchfield.com/wp-content/uploads/2025/04/FoodTruck-1.png
END:VEVENT
BEGIN:VEVENT
DTSTART;TZID=America/New_York:20280919T170000
DTEND;TZID=America/New_York:20280919T210000
DTSTAMP:20260420T180948
CREATED:20250417T210335Z
LAST-MODIFIED:20250424T160616Z
UID:10000186-1852995600-1853010000@mustenandcrutchfield.com
SUMMARY:Food Truck Rodeo
DESCRIPTION:
URL:http://mustenandcrutchfield.com/event/food-truck-rodeo/2028-09-19/
LOCATION:Musten & Crutchfield Parking Lot\, 245 N. Main St.\, Kernersville\, NC\, 27284\, United States
CATEGORIES:Food Truck Rodeo
ATTACH;FMTTYPE=image/png:http://mustenandcrutchfield.com/wp-content/uploads/2025/04/FoodTruck-1.png
END:VEVENT
BEGIN:VEVENT
DTSTART;TZID=America/New_York:20280926T170000
DTEND;TZID=America/New_York:20280926T210000
DTSTAMP:20260420T180948
CREATED:20250417T210335Z
LAST-MODIFIED:20250424T160616Z
UID:10000187-1853600400-1853614800@mustenandcrutchfield.com
SUMMARY:Food Truck Rodeo
DESCRIPTION:
URL:http://mustenandcrutchfield.com/event/food-truck-rodeo/2028-09-26/
LOCATION:Musten & Crutchfield Parking Lot\, 245 N. Main St.\, Kernersville\, NC\, 27284\, United States
CATEGORIES:Food Truck Rodeo
ATTACH;FMTTYPE=image/png:http://mustenandcrutchfield.com/wp-content/uploads/2025/04/FoodTruck-1.png
END:VEVENT
BEGIN:VEVENT
DTSTART;TZID=America/New_York:20281003T170000
DTEND;TZID=America/New_York:20281003T210000
DTSTAMP:20260420T180948
CREATED:20250417T210335Z
LAST-MODIFIED:20250424T160616Z
UID:10000188-1854205200-1854219600@mustenandcrutchfield.com
SUMMARY:Food Truck Rodeo
DESCRIPTION:
URL:http://mustenandcrutchfield.com/event/food-truck-rodeo/2028-10-03/
LOCATION:Musten & Crutchfield Parking Lot\, 245 N. Main St.\, Kernersville\, NC\, 27284\, United States
CATEGORIES:Food Truck Rodeo
ATTACH;FMTTYPE=image/png:http://mustenandcrutchfield.com/wp-content/uploads/2025/04/FoodTruck-1.png
END:VEVENT
BEGIN:VEVENT
DTSTART;TZID=America/New_York:20281010T170000
DTEND;TZID=America/New_York:20281010T210000
DTSTAMP:20260420T180948
CREATED:20250417T210335Z
LAST-MODIFIED:20250424T160616Z
UID:10000189-1854810000-1854824400@mustenandcrutchfield.com
SUMMARY:Food Truck Rodeo
DESCRIPTION:
URL:http://mustenandcrutchfield.com/event/food-truck-rodeo/2028-10-10/
LOCATION:Musten & Crutchfield Parking Lot\, 245 N. Main St.\, Kernersville\, NC\, 27284\, United States
CATEGORIES:Food Truck Rodeo
ATTACH;FMTTYPE=image/png:http://mustenandcrutchfield.com/wp-content/uploads/2025/04/FoodTruck-1.png
END:VEVENT
BEGIN:VEVENT
DTSTART;TZID=America/New_York:20281017T170000
DTEND;TZID=America/New_York:20281017T210000
DTSTAMP:20260420T180948
CREATED:20250417T210335Z
LAST-MODIFIED:20250424T160616Z
UID:10000190-1855414800-1855429200@mustenandcrutchfield.com
SUMMARY:Food Truck Rodeo
DESCRIPTION:
URL:http://mustenandcrutchfield.com/event/food-truck-rodeo/2028-10-17/
LOCATION:Musten & Crutchfield Parking Lot\, 245 N. Main St.\, Kernersville\, NC\, 27284\, United States
CATEGORIES:Food Truck Rodeo
ATTACH;FMTTYPE=image/png:http://mustenandcrutchfield.com/wp-content/uploads/2025/04/FoodTruck-1.png
END:VEVENT
BEGIN:VEVENT
DTSTART;TZID=America/New_York:20281024T170000
DTEND;TZID=America/New_York:20281024T210000
DTSTAMP:20260420T180948
CREATED:20250417T210335Z
LAST-MODIFIED:20250424T160616Z
UID:10000191-1856019600-1856034000@mustenandcrutchfield.com
SUMMARY:Food Truck Rodeo
DESCRIPTION:
URL:http://mustenandcrutchfield.com/event/food-truck-rodeo/2028-10-24/
LOCATION:Musten & Crutchfield Parking Lot\, 245 N. Main St.\, Kernersville\, NC\, 27284\, United States
CATEGORIES:Food Truck Rodeo
ATTACH;FMTTYPE=image/png:http://mustenandcrutchfield.com/wp-content/uploads/2025/04/FoodTruck-1.png
END:VEVENT
BEGIN:VEVENT
DTSTART;TZID=America/New_York:20281031T170000
DTEND;TZID=America/New_York:20281031T210000
DTSTAMP:20260420T180948
CREATED:20250417T210335Z
LAST-MODIFIED:20250424T160616Z
UID:10000192-1856624400-1856638800@mustenandcrutchfield.com
SUMMARY:Food Truck Rodeo
DESCRIPTION:
URL:http://mustenandcrutchfield.com/event/food-truck-rodeo/2028-10-31/
LOCATION:Musten & Crutchfield Parking Lot\, 245 N. Main St.\, Kernersville\, NC\, 27284\, United States
CATEGORIES:Food Truck Rodeo
ATTACH;FMTTYPE=image/png:http://mustenandcrutchfield.com/wp-content/uploads/2025/04/FoodTruck-1.png
END:VEVENT
BEGIN:VEVENT
DTSTART;TZID=America/New_York:20281107T170000
DTEND;TZID=America/New_York:20281107T210000
DTSTAMP:20260420T180948
CREATED:20250417T210335Z
LAST-MODIFIED:20250424T160616Z
UID:10000193-1857229200-1857243600@mustenandcrutchfield.com
SUMMARY:Food Truck Rodeo
DESCRIPTION:
URL:http://mustenandcrutchfield.com/event/food-truck-rodeo/2028-11-07/
LOCATION:Musten & Crutchfield Parking Lot\, 245 N. Main St.\, Kernersville\, NC\, 27284\, United States
CATEGORIES:Food Truck Rodeo
ATTACH;FMTTYPE=image/png:http://mustenandcrutchfield.com/wp-content/uploads/2025/04/FoodTruck-1.png
END:VEVENT
BEGIN:VEVENT
DTSTART;TZID=America/New_York:20281114T170000
DTEND;TZID=America/New_York:20281114T210000
DTSTAMP:20260420T180948
CREATED:20250417T210335Z
LAST-MODIFIED:20250424T160616Z
UID:10000194-1857834000-1857848400@mustenandcrutchfield.com
SUMMARY:Food Truck Rodeo
DESCRIPTION:
URL:http://mustenandcrutchfield.com/event/food-truck-rodeo/2028-11-14/
LOCATION:Musten & Crutchfield Parking Lot\, 245 N. Main St.\, Kernersville\, NC\, 27284\, United States
CATEGORIES:Food Truck Rodeo
ATTACH;FMTTYPE=image/png:http://mustenandcrutchfield.com/wp-content/uploads/2025/04/FoodTruck-1.png
END:VEVENT
BEGIN:VEVENT
DTSTART;TZID=America/New_York:20281121T170000
DTEND;TZID=America/New_York:20281121T210000
DTSTAMP:20260420T180948
CREATED:20250417T210335Z
LAST-MODIFIED:20250424T160616Z
UID:10000195-1858438800-1858453200@mustenandcrutchfield.com
SUMMARY:Food Truck Rodeo
DESCRIPTION:
URL:http://mustenandcrutchfield.com/event/food-truck-rodeo/2028-11-21/
LOCATION:Musten & Crutchfield Parking Lot\, 245 N. Main St.\, Kernersville\, NC\, 27284\, United States
CATEGORIES:Food Truck Rodeo
ATTACH;FMTTYPE=image/png:http://mustenandcrutchfield.com/wp-content/uploads/2025/04/FoodTruck-1.png
END:VEVENT
BEGIN:VEVENT
DTSTART;TZID=America/New_York:20281128T170000
DTEND;TZID=America/New_York:20281128T210000
DTSTAMP:20260420T180948
CREATED:20250417T210335Z
LAST-MODIFIED:20250424T160616Z
UID:10000196-1859043600-1859058000@mustenandcrutchfield.com
SUMMARY:Food Truck Rodeo
DESCRIPTION:
URL:http://mustenandcrutchfield.com/event/food-truck-rodeo/2028-11-28/
LOCATION:Musten & Crutchfield Parking Lot\, 245 N. Main St.\, Kernersville\, NC\, 27284\, United States
CATEGORIES:Food Truck Rodeo
ATTACH;FMTTYPE=image/png:http://mustenandcrutchfield.com/wp-content/uploads/2025/04/FoodTruck-1.png
END:VEVENT
BEGIN:VEVENT
DTSTART;TZID=America/New_York:20281205T170000
DTEND;TZID=America/New_York:20281205T210000
DTSTAMP:20260420T180948
CREATED:20250417T210335Z
LAST-MODIFIED:20250424T160616Z
UID:10000197-1859648400-1859662800@mustenandcrutchfield.com
SUMMARY:Food Truck Rodeo
DESCRIPTION:
URL:http://mustenandcrutchfield.com/event/food-truck-rodeo/2028-12-05/
LOCATION:Musten & Crutchfield Parking Lot\, 245 N. Main St.\, Kernersville\, NC\, 27284\, United States
CATEGORIES:Food Truck Rodeo
ATTACH;FMTTYPE=image/png:http://mustenandcrutchfield.com/wp-content/uploads/2025/04/FoodTruck-1.png
END:VEVENT
BEGIN:VEVENT
DTSTART;TZID=America/New_York:20281212T170000
DTEND;TZID=America/New_York:20281212T210000
DTSTAMP:20260420T180948
CREATED:20250417T210335Z
LAST-MODIFIED:20250424T160616Z
UID:10000198-1860253200-1860267600@mustenandcrutchfield.com
SUMMARY:Food Truck Rodeo
DESCRIPTION:
URL:http://mustenandcrutchfield.com/event/food-truck-rodeo/2028-12-12/
LOCATION:Musten & Crutchfield Parking Lot\, 245 N. Main St.\, Kernersville\, NC\, 27284\, United States
CATEGORIES:Food Truck Rodeo
ATTACH;FMTTYPE=image/png:http://mustenandcrutchfield.com/wp-content/uploads/2025/04/FoodTruck-1.png
END:VEVENT
BEGIN:VEVENT
DTSTART;TZID=America/New_York:20281219T170000
DTEND;TZID=America/New_York:20281219T210000
DTSTAMP:20260420T180948
CREATED:20250417T210335Z
LAST-MODIFIED:20250424T160616Z
UID:10000199-1860858000-1860872400@mustenandcrutchfield.com
SUMMARY:Food Truck Rodeo
DESCRIPTION:
URL:http://mustenandcrutchfield.com/event/food-truck-rodeo/2028-12-19/
LOCATION:Musten & Crutchfield Parking Lot\, 245 N. Main St.\, Kernersville\, NC\, 27284\, United States
CATEGORIES:Food Truck Rodeo
ATTACH;FMTTYPE=image/png:http://mustenandcrutchfield.com/wp-content/uploads/2025/04/FoodTruck-1.png
END:VEVENT
BEGIN:VEVENT
DTSTART;TZID=America/New_York:20281226T170000
DTEND;TZID=America/New_York:20281226T210000
DTSTAMP:20260420T180948
CREATED:20250417T210335Z
LAST-MODIFIED:20250424T160616Z
UID:10000200-1861462800-1861477200@mustenandcrutchfield.com
SUMMARY:Food Truck Rodeo
DESCRIPTION:
URL:http://mustenandcrutchfield.com/event/food-truck-rodeo/2028-12-26/
LOCATION:Musten & Crutchfield Parking Lot\, 245 N. Main St.\, Kernersville\, NC\, 27284\, United States
CATEGORIES:Food Truck Rodeo
ATTACH;FMTTYPE=image/png:http://mustenandcrutchfield.com/wp-content/uploads/2025/04/FoodTruck-1.png
END:VEVENT
BEGIN:VEVENT
DTSTART;TZID=America/New_York:20290102T170000
DTEND;TZID=America/New_York:20290102T210000
DTSTAMP:20260420T180948
CREATED:20250417T210335Z
LAST-MODIFIED:20250424T160616Z
UID:10000201-1862067600-1862082000@mustenandcrutchfield.com
SUMMARY:Food Truck Rodeo
DESCRIPTION:
URL:http://mustenandcrutchfield.com/event/food-truck-rodeo/2029-01-02/
LOCATION:Musten & Crutchfield Parking Lot\, 245 N. Main St.\, Kernersville\, NC\, 27284\, United States
CATEGORIES:Food Truck Rodeo
ATTACH;FMTTYPE=image/png:http://mustenandcrutchfield.com/wp-content/uploads/2025/04/FoodTruck-1.png
END:VEVENT
BEGIN:VEVENT
DTSTART;TZID=America/New_York:20290109T170000
DTEND;TZID=America/New_York:20290109T210000
DTSTAMP:20260420T180948
CREATED:20250417T210335Z
LAST-MODIFIED:20250424T160616Z
UID:10000202-1862672400-1862686800@mustenandcrutchfield.com
SUMMARY:Food Truck Rodeo
DESCRIPTION:
URL:http://mustenandcrutchfield.com/event/food-truck-rodeo/2029-01-09/
LOCATION:Musten & Crutchfield Parking Lot\, 245 N. Main St.\, Kernersville\, NC\, 27284\, United States
CATEGORIES:Food Truck Rodeo
ATTACH;FMTTYPE=image/png:http://mustenandcrutchfield.com/wp-content/uploads/2025/04/FoodTruck-1.png
END:VEVENT
BEGIN:VEVENT
DTSTART;TZID=America/New_York:20290116T170000
DTEND;TZID=America/New_York:20290116T210000
DTSTAMP:20260420T180948
CREATED:20250417T210335Z
LAST-MODIFIED:20250424T160616Z
UID:10000203-1863277200-1863291600@mustenandcrutchfield.com
SUMMARY:Food Truck Rodeo
DESCRIPTION:
URL:http://mustenandcrutchfield.com/event/food-truck-rodeo/2029-01-16/
LOCATION:Musten & Crutchfield Parking Lot\, 245 N. Main St.\, Kernersville\, NC\, 27284\, United States
CATEGORIES:Food Truck Rodeo
ATTACH;FMTTYPE=image/png:http://mustenandcrutchfield.com/wp-content/uploads/2025/04/FoodTruck-1.png
END:VEVENT
BEGIN:VEVENT
DTSTART;TZID=America/New_York:20290123T170000
DTEND;TZID=America/New_York:20290123T210000
DTSTAMP:20260420T180948
CREATED:20250417T210335Z
LAST-MODIFIED:20250424T160616Z
UID:10000204-1863882000-1863896400@mustenandcrutchfield.com
SUMMARY:Food Truck Rodeo
DESCRIPTION:
URL:http://mustenandcrutchfield.com/event/food-truck-rodeo/2029-01-23/
LOCATION:Musten & Crutchfield Parking Lot\, 245 N. Main St.\, Kernersville\, NC\, 27284\, United States
CATEGORIES:Food Truck Rodeo
ATTACH;FMTTYPE=image/png:http://mustenandcrutchfield.com/wp-content/uploads/2025/04/FoodTruck-1.png
END:VEVENT
BEGIN:VEVENT
DTSTART;TZID=America/New_York:20290130T170000
DTEND;TZID=America/New_York:20290130T210000
DTSTAMP:20260420T180948
CREATED:20250417T210335Z
LAST-MODIFIED:20250424T160616Z
UID:10000205-1864486800-1864501200@mustenandcrutchfield.com
SUMMARY:Food Truck Rodeo
DESCRIPTION:
URL:http://mustenandcrutchfield.com/event/food-truck-rodeo/2029-01-30/
LOCATION:Musten & Crutchfield Parking Lot\, 245 N. Main St.\, Kernersville\, NC\, 27284\, United States
CATEGORIES:Food Truck Rodeo
ATTACH;FMTTYPE=image/png:http://mustenandcrutchfield.com/wp-content/uploads/2025/04/FoodTruck-1.png
END:VEVENT
BEGIN:VEVENT
DTSTART;TZID=America/New_York:20290206T170000
DTEND;TZID=America/New_York:20290206T210000
DTSTAMP:20260420T180948
CREATED:20250417T210335Z
LAST-MODIFIED:20250424T160616Z
UID:10000206-1865091600-1865106000@mustenandcrutchfield.com
SUMMARY:Food Truck Rodeo
DESCRIPTION:
URL:http://mustenandcrutchfield.com/event/food-truck-rodeo/2029-02-06/
LOCATION:Musten & Crutchfield Parking Lot\, 245 N. Main St.\, Kernersville\, NC\, 27284\, United States
CATEGORIES:Food Truck Rodeo
ATTACH;FMTTYPE=image/png:http://mustenandcrutchfield.com/wp-content/uploads/2025/04/FoodTruck-1.png
END:VEVENT
BEGIN:VEVENT
DTSTART;TZID=America/New_York:20290213T170000
DTEND;TZID=America/New_York:20290213T210000
DTSTAMP:20260420T180948
CREATED:20250417T210335Z
LAST-MODIFIED:20250424T160616Z
UID:10000207-1865696400-1865710800@mustenandcrutchfield.com
SUMMARY:Food Truck Rodeo
DESCRIPTION:
URL:http://mustenandcrutchfield.com/event/food-truck-rodeo/2029-02-13/
LOCATION:Musten & Crutchfield Parking Lot\, 245 N. Main St.\, Kernersville\, NC\, 27284\, United States
CATEGORIES:Food Truck Rodeo
ATTACH;FMTTYPE=image/png:http://mustenandcrutchfield.com/wp-content/uploads/2025/04/FoodTruck-1.png
END:VEVENT
BEGIN:VEVENT
DTSTART;TZID=America/New_York:20290220T170000
DTEND;TZID=America/New_York:20290220T210000
DTSTAMP:20260420T180948
CREATED:20250417T210335Z
LAST-MODIFIED:20250424T160616Z
UID:10000208-1866301200-1866315600@mustenandcrutchfield.com
SUMMARY:Food Truck Rodeo
DESCRIPTION:
URL:http://mustenandcrutchfield.com/event/food-truck-rodeo/2029-02-20/
LOCATION:Musten & Crutchfield Parking Lot\, 245 N. Main St.\, Kernersville\, NC\, 27284\, United States
CATEGORIES:Food Truck Rodeo
ATTACH;FMTTYPE=image/png:http://mustenandcrutchfield.com/wp-content/uploads/2025/04/FoodTruck-1.png
END:VEVENT
BEGIN:VEVENT
DTSTART;TZID=America/New_York:20290227T170000
DTEND;TZID=America/New_York:20290227T210000
DTSTAMP:20260420T180948
CREATED:20250417T210335Z
LAST-MODIFIED:20250424T160616Z
UID:10000209-1866906000-1866920400@mustenandcrutchfield.com
SUMMARY:Food Truck Rodeo
DESCRIPTION:
URL:http://mustenandcrutchfield.com/event/food-truck-rodeo/2029-02-27/
LOCATION:Musten & Crutchfield Parking Lot\, 245 N. Main St.\, Kernersville\, NC\, 27284\, United States
CATEGORIES:Food Truck Rodeo
ATTACH;FMTTYPE=image/png:http://mustenandcrutchfield.com/wp-content/uploads/2025/04/FoodTruck-1.png
END:VEVENT
END:VCALENDAR