BEGIN:VCALENDAR
VERSION:2.0
PRODID:-//Musten &amp; Crutchfield Food Market - ECPv6.15.14//NONSGML v1.0//EN
CALSCALE:GREGORIAN
METHOD:PUBLISH
X-ORIGINAL-URL:http://mustenandcrutchfield.com
X-WR-CALDESC:Events for Musten &amp; Crutchfield Food Market
REFRESH-INTERVAL;VALUE=DURATION:PT1H
X-Robots-Tag:noindex
X-PUBLISHED-TTL:PT1H
BEGIN:VTIMEZONE
TZID:America/New_York
BEGIN:DAYLIGHT
TZOFFSETFROM:-0500
TZOFFSETTO:-0400
TZNAME:EDT
DTSTART:20250309T070000
END:DAYLIGHT
BEGIN:STANDARD
TZOFFSETFROM:-0400
TZOFFSETTO:-0500
TZNAME:EST
DTSTART:20251102T060000
END:STANDARD
BEGIN:DAYLIGHT
TZOFFSETFROM:-0500
TZOFFSETTO:-0400
TZNAME:EDT
DTSTART:20260308T070000
END:DAYLIGHT
BEGIN:STANDARD
TZOFFSETFROM:-0400
TZOFFSETTO:-0500
TZNAME:EST
DTSTART:20261101T060000
END:STANDARD
BEGIN:DAYLIGHT
TZOFFSETFROM:-0500
TZOFFSETTO:-0400
TZNAME:EDT
DTSTART:20270314T070000
END:DAYLIGHT
BEGIN:STANDARD
TZOFFSETFROM:-0400
TZOFFSETTO:-0500
TZNAME:EST
DTSTART:20271107T060000
END:STANDARD
END:VTIMEZONE
BEGIN:VEVENT
DTSTART;TZID=America/New_York:20260426T080000
DTEND;TZID=America/New_York:20260426T170000
DTSTAMP:20260420T013758
CREATED:20260107T200939Z
LAST-MODIFIED:20260107T200939Z
UID:10000315-1777190400-1777222800@mustenandcrutchfield.com
SUMMARY:Blood Drive
DESCRIPTION:
URL:http://mustenandcrutchfield.com/event/blood-drive-2/2026-04-26/
LOCATION:Musten & Crutchfield Parking Lot\, 245 N. Main St.\, Kernersville\, NC\, 27284\, United States
CATEGORIES:Blood Drive
ATTACH;FMTTYPE=image/png:http://mustenandcrutchfield.com/wp-content/uploads/2025/05/TBC_logo_main-scaled.png
END:VEVENT
BEGIN:VEVENT
DTSTART;TZID=America/New_York:20260620T080000
DTEND;TZID=America/New_York:20260620T170000
DTSTAMP:20260420T013758
CREATED:20260107T201128Z
LAST-MODIFIED:20260107T201128Z
UID:10000316-1781942400-1781974800@mustenandcrutchfield.com
SUMMARY:Blood Drive
DESCRIPTION:
URL:http://mustenandcrutchfield.com/event/blood-drive-4/
LOCATION:Musten & Crutchfield Parking Lot\, 245 N. Main St.\, Kernersville\, NC\, 27284\, United States
CATEGORIES:Blood Drive
ATTACH;FMTTYPE=image/png:http://mustenandcrutchfield.com/wp-content/uploads/2025/05/TBC_logo_main-scaled.png
END:VEVENT
BEGIN:VEVENT
DTSTART;TZID=America/New_York:20260815T080000
DTEND;TZID=America/New_York:20260815T170000
DTSTAMP:20260420T013758
CREATED:20260107T201238Z
LAST-MODIFIED:20260107T201238Z
UID:10000317-1786780800-1786813200@mustenandcrutchfield.com
SUMMARY:Blood Drive
DESCRIPTION:
URL:http://mustenandcrutchfield.com/event/blood-drive-5/
LOCATION:Musten & Crutchfield Parking Lot\, 245 N. Main St.\, Kernersville\, NC\, 27284\, United States
CATEGORIES:Blood Drive
ATTACH;FMTTYPE=image/png:http://mustenandcrutchfield.com/wp-content/uploads/2025/05/TBC_logo_main-scaled.png
END:VEVENT
BEGIN:VEVENT
DTSTART;TZID=America/New_York:20261024T080000
DTEND;TZID=America/New_York:20261024T170000
DTSTAMP:20260420T013758
CREATED:20260107T201331Z
LAST-MODIFIED:20260107T201331Z
UID:10000318-1792828800-1792861200@mustenandcrutchfield.com
SUMMARY:Blood Drive
DESCRIPTION:
URL:http://mustenandcrutchfield.com/event/blood-drive-6/
LOCATION:Musten & Crutchfield Parking Lot\, 245 N. Main St.\, Kernersville\, NC\, 27284\, United States
CATEGORIES:Blood Drive
ATTACH;FMTTYPE=image/png:http://mustenandcrutchfield.com/wp-content/uploads/2025/05/TBC_logo_main-scaled.png
END:VEVENT
BEGIN:VEVENT
DTSTART;TZID=America/New_York:20261226T080000
DTEND;TZID=America/New_York:20261226T170000
DTSTAMP:20260420T013758
CREATED:20260107T201421Z
LAST-MODIFIED:20260114T205505Z
UID:10000319-1798272000-1798304400@mustenandcrutchfield.com
SUMMARY:Blood Drive
DESCRIPTION:Schedule your appointment now!\nhttps://donate.thebloodconnection.org/donor/schedules/drive_schedule/301086
URL:http://mustenandcrutchfield.com/event/blood-drive-7/
LOCATION:Musten & Crutchfield Parking Lot\, 245 N. Main St.\, Kernersville\, NC\, 27284\, United States
CATEGORIES:Blood Drive
ATTACH;FMTTYPE=image/png:http://mustenandcrutchfield.com/wp-content/uploads/2025/05/TBC_logo_main-scaled.png
END:VEVENT
END:VCALENDAR